BEGIN:VCALENDAR
VERSION:2.0
PRODID:-//Kirchengemeinde St. Laurentii auf Föhr - ECPv6.15.18//NONSGML v1.0//EN
CALSCALE:GREGORIAN
METHOD:PUBLISH
X-WR-CALNAME:Kirchengemeinde St. Laurentii auf Föhr
X-ORIGINAL-URL:https://www.st-laurentii.de
X-WR-CALDESC:Veranstaltungen für Kirchengemeinde St. Laurentii auf Föhr
REFRESH-INTERVAL;VALUE=DURATION:PT1H
X-Robots-Tag:noindex
X-PUBLISHED-TTL:PT1H
BEGIN:VTIMEZONE
TZID:UTC
BEGIN:STANDARD
TZOFFSETFROM:+0000
TZOFFSETTO:+0000
TZNAME:UTC
DTSTART:20250101T000000
END:STANDARD
END:VTIMEZONE
BEGIN:VEVENT
DTSTART;TZID=UTC:20260503T100000
DTEND;TZID=UTC:20260503T110000
DTSTAMP:20260425T133902
CREATED:20260416T075352Z
LAST-MODIFIED:20260416T075352Z
UID:8632-1777802400-1777806000@www.st-laurentii.de
SUMMARY:Gottesdienst am Sonntag Kantate
DESCRIPTION:Einsegnung von Birke Licht als Prädikantin. \nmit Pastorin Gabriele Kliefoth\, Pastor i.R. Martin Diehl\, Inselposaunenchor und Orgel Jörg Schindler-Schwabedissen
URL:https://www.st-laurentii.de/termin/gottesdienst-am-sonntag-kantate/
CATEGORIES:Gottesdienst
ATTACH;FMTTYPE=image/jpeg:https://www.st-laurentii.de/wp-content/uploads/2018/11/Föhr-02.jpg
END:VEVENT
BEGIN:VEVENT
DTSTART;TZID=UTC:20260510T100000
DTEND;TZID=UTC:20260510T110000
DTSTAMP:20260425T133902
CREATED:20260416T075957Z
LAST-MODIFIED:20260416T075957Z
UID:8634-1778407200-1778410800@www.st-laurentii.de
SUMMARY:Gottesdienst am Sonntag Rogate
DESCRIPTION:zum Muttertag\, mit Gabriele Kliefoth und Musikerin Birke Licht
URL:https://www.st-laurentii.de/termin/gottesdienst-am-sonntag-rogate/
CATEGORIES:Gottesdienst
ATTACH;FMTTYPE=image/jpeg:https://www.st-laurentii.de/wp-content/uploads/2017/08/St.-Laurentii-Kirche_Foto-Taege.jpg
END:VEVENT
BEGIN:VEVENT
DTSTART;TZID=UTC:20260514T101500
DTEND;TZID=UTC:20260514T111500
DTSTAMP:20260425T133902
CREATED:20260416T080333Z
LAST-MODIFIED:20260416T080333Z
UID:8636-1778753700-1778757300@www.st-laurentii.de
SUMMARY:Christi Himmelfahrt
DESCRIPTION:Inselgottesdienst mit Pastorin Gabriele Kliefoth und Musikerin Birke Licht
URL:https://www.st-laurentii.de/termin/christi-himmelfahrt/
CATEGORIES:Inselgottesdienst
ATTACH;FMTTYPE=image/jpeg:https://www.st-laurentii.de/wp-content/uploads/2016/03/DSC00777.jpg
END:VEVENT
BEGIN:VEVENT
DTSTART;TZID=UTC:20260517T100000
DTEND;TZID=UTC:20260517T110000
DTSTAMP:20260425T133902
CREATED:20260416T080600Z
LAST-MODIFIED:20260416T080600Z
UID:8638-1779012000-1779015600@www.st-laurentii.de
SUMMARY:Gottesdienst am Sonntag Exaudi
DESCRIPTION:mit Pastor i.R. Martin Diehl und Musikerin Birke Licht
URL:https://www.st-laurentii.de/termin/gottesdienst-am-sonntag-exaudi/
CATEGORIES:Gottesdienst
ATTACH;FMTTYPE=image/jpeg:https://www.st-laurentii.de/wp-content/uploads/2016/12/DSC03286.jpg
END:VEVENT
BEGIN:VEVENT
DTSTART;TZID=UTC:20260524T100000
DTEND;TZID=UTC:20260524T110000
DTSTAMP:20260425T133902
CREATED:20260416T081056Z
LAST-MODIFIED:20260416T081056Z
UID:8640-1779616800-1779620400@www.st-laurentii.de
SUMMARY:Pfingstsonntag
DESCRIPTION:mit Pastorin Gabriele Kliefoth und Musikerin Birke Licht
URL:https://www.st-laurentii.de/termin/pfingstsonntag-3/
CATEGORIES:Gottesdienst
ATTACH;FMTTYPE=image/jpeg:https://www.st-laurentii.de/wp-content/uploads/2014/11/DSC04501.jpg
END:VEVENT
BEGIN:VEVENT
DTSTART;TZID=UTC:20260524T200000
DTEND;TZID=UTC:20260524T210000
DTSTAMP:20260425T133902
CREATED:20260416T081558Z
LAST-MODIFIED:20260416T081558Z
UID:8642-1779652800-1779656400@www.st-laurentii.de
SUMMARY:Musikalische Abendgedanken
DESCRIPTION:mit den Musikerinnen Birke Licht und Diana Jeß
URL:https://www.st-laurentii.de/termin/musikalische-abendgedanken-8/
CATEGORIES:Musikalische Abendgedanken
ATTACH;FMTTYPE=image/jpeg:https://www.st-laurentii.de/wp-content/uploads/2018/08/IMG-20180802-WA0001.jpg
END:VEVENT
BEGIN:VEVENT
DTSTART;TZID=UTC:20260525T101500
DTEND;TZID=UTC:20260525T111500
DTSTAMP:20260425T133902
CREATED:20260416T081815Z
LAST-MODIFIED:20260416T081815Z
UID:8644-1779704100-1779707700@www.st-laurentii.de
SUMMARY:Pfingstmontag
DESCRIPTION:Inselgottesdienst im Garten des Pastorates Nieblum
URL:https://www.st-laurentii.de/termin/pfingstmontag/
CATEGORIES:Inselgottesdienst
END:VEVENT
BEGIN:VEVENT
DTSTART;TZID=UTC:20260531T100000
DTEND;TZID=UTC:20260531T110000
DTSTAMP:20260425T133902
CREATED:20260416T082115Z
LAST-MODIFIED:20260416T082115Z
UID:8646-1780221600-1780225200@www.st-laurentii.de
SUMMARY:Gottesdienst am Sonntag Trinitatis
DESCRIPTION:mit Abendmahl mit Pastor i.R. Frank Lotichius und Musikerin Birke Licht
URL:https://www.st-laurentii.de/termin/gottesdienst-am-sonntag-trinitatis/
CATEGORIES:Gottesdienst
ATTACH;FMTTYPE=image/jpeg:https://www.st-laurentii.de/wp-content/uploads/2017/04/P1260636.jpg
END:VEVENT
END:VCALENDAR