BEGIN:VCALENDAR
VERSION:2.0
PRODID:-//Kirchengemeinde St. Laurentii auf Föhr - ECPv6.15.18//NONSGML v1.0//EN
CALSCALE:GREGORIAN
METHOD:PUBLISH
X-WR-CALNAME:Kirchengemeinde St. Laurentii auf Föhr
X-ORIGINAL-URL:https://www.st-laurentii.de
X-WR-CALDESC:Veranstaltungen für Kirchengemeinde St. Laurentii auf Föhr
REFRESH-INTERVAL;VALUE=DURATION:PT1H
X-Robots-Tag:noindex
X-PUBLISHED-TTL:PT1H
BEGIN:VTIMEZONE
TZID:UTC
BEGIN:STANDARD
TZOFFSETFROM:+0000
TZOFFSETTO:+0000
TZNAME:UTC
DTSTART:20240101T000000
END:STANDARD
END:VTIMEZONE
BEGIN:VEVENT
DTSTART;TZID=UTC:20251003T200000
DTEND;TZID=UTC:20251003T210000
DTSTAMP:20260421T130911
CREATED:20250902T085806Z
LAST-MODIFIED:20250904T075024Z
UID:8392-1759521600-1759525200@www.st-laurentii.de
SUMMARY:Konzert mit der Band "Grenzenlos"
DESCRIPTION:Rockmusik aus Ost- und Westdeutschland \nEin deutschsprachiges Programm abwechslungsreich\, humorvoll\, teils nachdenklich mit sanften Klängen und teils fetzig\, in jedem Fall sehr unterhaltsam gestaltet. \nEintritt frei – Kollekte erbeten
URL:https://www.st-laurentii.de/termin/konzert-mit-der-band-grenzenlos-3/
CATEGORIES:Konzert
ATTACH;FMTTYPE=image/jpeg:https://www.st-laurentii.de/wp-content/uploads/2015/08/DSC00919.jpg
END:VEVENT
BEGIN:VEVENT
DTSTART;TZID=UTC:20251005T100000
DTEND;TZID=UTC:20251005T110000
DTSTAMP:20260421T130911
CREATED:20250902T090105Z
LAST-MODIFIED:20250902T090105Z
UID:8394-1759658400-1759662000@www.st-laurentii.de
SUMMARY:Gottesdienst zum Erntedank
DESCRIPTION:mit Pastorin Gabriele Kliefoth\, Musikerin Birke Licht und dem Feer-Ladies-Chor
URL:https://www.st-laurentii.de/termin/gottesdienst-zum-erntedank-2/
CATEGORIES:Gottesdienst
ATTACH;FMTTYPE=image/jpeg:https://www.st-laurentii.de/wp-content/uploads/2021/10/Screenshot_20211003-150456_WhatsApp.jpg
END:VEVENT
BEGIN:VEVENT
DTSTART;TZID=UTC:20251005T200000
DTEND;TZID=UTC:20251005T210000
DTSTAMP:20260421T130911
CREATED:20250902T090345Z
LAST-MODIFIED:20250902T090345Z
UID:8396-1759694400-1759698000@www.st-laurentii.de
SUMMARY:Musikalische Abendgedanken zu Erntedank
DESCRIPTION:mit den Musikerinnen Diana Jeß und Birke Licht \nEintritt frei – Kollekte erbeten
URL:https://www.st-laurentii.de/termin/musikalische-abendgedanken-zu-erntedank-2/
CATEGORIES:Musikalische Abendgedanken
ATTACH;FMTTYPE=image/jpeg:https://www.st-laurentii.de/wp-content/uploads/2020/10/20201004_092322.jpg
END:VEVENT
BEGIN:VEVENT
DTSTART;TZID=UTC:20251012T100000
DTEND;TZID=UTC:20251012T110000
DTSTAMP:20260421T130911
CREATED:20250902T090746Z
LAST-MODIFIED:20250902T090746Z
UID:8398-1760263200-1760266800@www.st-laurentii.de
SUMMARY:Gottesdienst zum 17. Sonntag nach Trinitatis
DESCRIPTION:mit Pastorin Gabriele Kliefoth und Organist Jörg Schindler-Schwabedissen
URL:https://www.st-laurentii.de/termin/gottesdienst-zum-17-sonntag-nach-trinitatis/
CATEGORIES:Gottesdienst
ATTACH;FMTTYPE=image/jpeg:https://www.st-laurentii.de/wp-content/uploads/2018/10/IMG-20181007-WA0003.jpg
END:VEVENT
BEGIN:VEVENT
DTSTART;TZID=UTC:20251019T100000
DTEND;TZID=UTC:20251019T110000
DTSTAMP:20260421T130911
CREATED:20250902T091635Z
LAST-MODIFIED:20250925T071309Z
UID:8402-1760868000-1760871600@www.st-laurentii.de
SUMMARY:Gottesdienst 18. Sonntag nach Trinitatis
DESCRIPTION:mit Pastorin Gabriele Kliefoth und Musikerin Birke Licht
URL:https://www.st-laurentii.de/termin/gottesdienst-18-sonntag-nach-trinitatis-2/
CATEGORIES:Gottesdienst
ATTACH;FMTTYPE=image/jpeg:https://www.st-laurentii.de/wp-content/uploads/2018/10/IMG-20181007-WA0006.jpg
END:VEVENT
BEGIN:VEVENT
DTSTART;TZID=UTC:20251022T150000
DTEND;TZID=UTC:20251022T170000
DTSTAMP:20260421T130911
CREATED:20250904T072043Z
LAST-MODIFIED:20250904T072043Z
UID:8406-1761145200-1761152400@www.st-laurentii.de
SUMMARY:Seniorenkreis
DESCRIPTION:gemütliches Beisammensein im Pastorart
URL:https://www.st-laurentii.de/termin/seniorenkreis-12/
CATEGORIES:Veranstaltungen
ATTACH;FMTTYPE=image/jpeg:https://www.st-laurentii.de/wp-content/uploads/2011/05/Pastorat.jpg
END:VEVENT
BEGIN:VEVENT
DTSTART;TZID=UTC:20251026T100000
DTEND;TZID=UTC:20251026T110000
DTSTAMP:20260421T130911
CREATED:20250904T072421Z
LAST-MODIFIED:20250904T072421Z
UID:8408-1761472800-1761476400@www.st-laurentii.de
SUMMARY:Gottesdienst zum 19. Sonntag nach Trinitatis
DESCRIPTION:mit Pastorin Gabriele Kliefoth und Organist Jörg Schindler-Schwabedissen
URL:https://www.st-laurentii.de/termin/gottesdienst-zum-19-sonntag-nach-trinitatis/
CATEGORIES:Gottesdienst
ATTACH;FMTTYPE=image/jpeg:https://www.st-laurentii.de/wp-content/uploads/2017/10/DSC04787.jpg
END:VEVENT
BEGIN:VEVENT
DTSTART;TZID=UTC:20251031T101500
DTEND;TZID=UTC:20251031T111500
DTSTAMP:20260421T130911
CREATED:20250904T072856Z
LAST-MODIFIED:20250904T072856Z
UID:8410-1761905700-1761909300@www.st-laurentii.de
SUMMARY:Reformationstag - Inselgottesdienst in St. Nicolai\, Wyk auf Föhr
DESCRIPTION:  \nkein Gottesdienst in Süderende
URL:https://www.st-laurentii.de/termin/reformationstag-inselgottesdienst-in-st-nicolai-wyk-auf-foehr/
CATEGORIES:Gottesdienst
END:VEVENT
END:VCALENDAR