BEGIN:VCALENDAR
VERSION:2.0
PRODID:-//Kirchengemeinde St. Laurentii auf Föhr - ECPv6.15.18//NONSGML v1.0//EN
CALSCALE:GREGORIAN
METHOD:PUBLISH
X-WR-CALNAME:Kirchengemeinde St. Laurentii auf Föhr
X-ORIGINAL-URL:https://www.st-laurentii.de
X-WR-CALDESC:Veranstaltungen für Kirchengemeinde St. Laurentii auf Föhr
REFRESH-INTERVAL;VALUE=DURATION:PT1H
X-Robots-Tag:noindex
X-PUBLISHED-TTL:PT1H
BEGIN:VTIMEZONE
TZID:UTC
BEGIN:STANDARD
TZOFFSETFROM:+0000
TZOFFSETTO:+0000
TZNAME:UTC
DTSTART:20240101T000000
END:STANDARD
END:VTIMEZONE
BEGIN:VEVENT
DTSTART;TZID=UTC:20251123T100000
DTEND;TZID=UTC:20251123T110000
DTSTAMP:20260421T234505
CREATED:20251021T080525Z
LAST-MODIFIED:20251021T080525Z
UID:8450-1763892000-1763895600@www.st-laurentii.de
SUMMARY:Ewigkeitssonntag
DESCRIPTION:Gottesdienst mit Abendmahl \nmit Pastorin Gabriele Kliefoth und Musikerin Birke Licht
URL:https://www.st-laurentii.de/termin/ewigkeitssonntag/
CATEGORIES:Gottesdienst
ATTACH;FMTTYPE=image/jpeg:https://www.st-laurentii.de/wp-content/uploads/2017/08/St.-Laurentii-Kirche_Foto-Taege.jpg
END:VEVENT
END:VCALENDAR