BEGIN:VCALENDAR
VERSION:2.0
PRODID:-//Kirchengemeinde St. Laurentii auf Föhr - ECPv6.15.18//NONSGML v1.0//EN
CALSCALE:GREGORIAN
METHOD:PUBLISH
X-ORIGINAL-URL:https://www.st-laurentii.de
X-WR-CALDESC:Veranstaltungen für Kirchengemeinde St. Laurentii auf Föhr
REFRESH-INTERVAL;VALUE=DURATION:PT1H
X-Robots-Tag:noindex
X-PUBLISHED-TTL:PT1H
BEGIN:VTIMEZONE
TZID:UTC
BEGIN:STANDARD
TZOFFSETFROM:+0000
TZOFFSETTO:+0000
TZNAME:UTC
DTSTART:20240101T000000
END:STANDARD
END:VTIMEZONE
BEGIN:VEVENT
DTSTART;TZID=UTC:20251119T170000
DTEND;TZID=UTC:20251119T180000
DTSTAMP:20260421T185452
CREATED:20251021T080201Z
LAST-MODIFIED:20251021T082114Z
UID:8448-1763571600-1763575200@www.st-laurentii.de
SUMMARY:Abendgedanken zum Buß- und Bettag
DESCRIPTION:mit den Musikerinnen Diana Jeß und Birke Licht \nEintritt frei – Kollekte erbeten
URL:https://www.st-laurentii.de/termin/abendgedanken-zum-buss-und-bettag/
CATEGORIES:Musikalische Abendgedanken
ATTACH;FMTTYPE=image/jpeg:https://www.st-laurentii.de/wp-content/uploads/2014/12/P1050954.jpg
END:VEVENT
END:VCALENDAR