BEGIN:VCALENDAR
VERSION:2.0
PRODID:-//Kirchengemeinde St. Laurentii auf Föhr - ECPv6.15.18//NONSGML v1.0//EN
CALSCALE:GREGORIAN
METHOD:PUBLISH
X-ORIGINAL-URL:https://www.st-laurentii.de
X-WR-CALDESC:Veranstaltungen für Kirchengemeinde St. Laurentii auf Föhr
REFRESH-INTERVAL;VALUE=DURATION:PT1H
X-Robots-Tag:noindex
X-PUBLISHED-TTL:PT1H
BEGIN:VTIMEZONE
TZID:UTC
BEGIN:STANDARD
TZOFFSETFROM:+0000
TZOFFSETTO:+0000
TZNAME:UTC
DTSTART:20240101T000000
END:STANDARD
END:VTIMEZONE
BEGIN:VEVENT
DTSTART;TZID=UTC:20251111T150000
DTEND;TZID=UTC:20251111T160000
DTSTAMP:20260422T061216
CREATED:20251028T101908Z
LAST-MODIFIED:20251028T101908Z
UID:8462-1762873200-1762876800@www.st-laurentii.de
SUMMARY:Landverpachtung
DESCRIPTION:Informationen zur Veranstaltung hat der KGR-Vorsitzende Erk Wögens\, Utersum \nDie Veranstaltung findet im Pastorat gegenüber der St.Laurentii Kirche statt.
URL:https://www.st-laurentii.de/termin/landverpachtung/
CATEGORIES:Veranstaltungen
END:VEVENT
END:VCALENDAR