BEGIN:VCALENDAR
VERSION:2.0
PRODID:-//Kirchengemeinde St. Laurentii auf Föhr - ECPv6.15.18//NONSGML v1.0//EN
CALSCALE:GREGORIAN
METHOD:PUBLISH
X-WR-CALNAME:Kirchengemeinde St. Laurentii auf Föhr
X-ORIGINAL-URL:https://www.st-laurentii.de
X-WR-CALDESC:Veranstaltungen für Kirchengemeinde St. Laurentii auf Föhr
REFRESH-INTERVAL;VALUE=DURATION:PT1H
X-Robots-Tag:noindex
X-PUBLISHED-TTL:PT1H
BEGIN:VTIMEZONE
TZID:UTC
BEGIN:STANDARD
TZOFFSETFROM:+0000
TZOFFSETTO:+0000
TZNAME:UTC
DTSTART:20240101T000000
END:STANDARD
END:VTIMEZONE
BEGIN:VEVENT
DTSTART;TZID=UTC:20250810T100000
DTEND;TZID=UTC:20250810T110000
DTSTAMP:20260421T234412
CREATED:20250613T083852Z
LAST-MODIFIED:20250626T081020Z
UID:8315-1754820000-1754823600@www.st-laurentii.de
SUMMARY:8. Sonntag nach Trinitatis
DESCRIPTION:mit Pastorin Gabriele Kliefoth und Musikerin Birke Licht
URL:https://www.st-laurentii.de/termin/8-sonntag-nach-trinitatis/
CATEGORIES:Gottesdienst
ATTACH;FMTTYPE=image/jpeg:https://www.st-laurentii.de/wp-content/uploads/2016/12/DSC03286.jpg
END:VEVENT
BEGIN:VEVENT
DTSTART;TZID=UTC:20250810T100000
DTEND;TZID=UTC:20250810T110000
DTSTAMP:20260421T234412
CREATED:20250626T081311Z
LAST-MODIFIED:20250626T081311Z
UID:8339-1754820000-1754823600@www.st-laurentii.de
SUMMARY:8. Sonntag nach Trinitatis
DESCRIPTION:mit Pastor i.R. Martin Diehl und Musikerin Birke Licht
URL:https://www.st-laurentii.de/termin/8-sonntag-nach-trinitatis-2/
CATEGORIES:Gottesdienst
ATTACH;FMTTYPE=image/jpeg:https://www.st-laurentii.de/wp-content/uploads/2022/05/IMG-20220430-WA0004.jpg
END:VEVENT
BEGIN:VEVENT
DTSTART;TZID=UTC:20250810T200000
DTEND;TZID=UTC:20250810T210000
DTSTAMP:20260421T234412
CREATED:20250613T084045Z
LAST-MODIFIED:20250613T091349Z
UID:8317-1754856000-1754859600@www.st-laurentii.de
SUMMARY:Klangzauber Holzbläser mit Sigandor Quintett
DESCRIPTION:Ein Konzert für Flöte\, Oboe\, Klarinette\, Horn und Fagott. \nEintritt frei – Kollekte erbeten \nDas Sigandor Quintett konzertiert seit mehr als 30 Jahren an der Nordsee. Das 1984 gegründete Ensemble gab sein erstes Konzert auf Helgoland\, das seither jedes Jahr fester Bestandteil der sommerlichen Konzertreise des Quintetts über die deutschen Nordseeinseln ist. Nach und nach kamen Konzerte auf Föhr\, Amrum\, den Halligen\, den ostfriesischen Inseln und an der Ostsee hinzu. Die Probenphasen finden immer auf einer der Nordseeinseln statt. \nDie heutigen fünf Musiker/innen sind Mitglieder des HR-Sinfonieorchesters des Hessischen Rundfunks in Frankfurt am Main\, der Badischen Staatskapelle und der Niederrheinischen Sinfoniker Krefeld-Mönchengladbach\, oder unterrichten an der Hochschule für Musik in Würzburg. \nDas Wort Sigandor geht auf den Namen eines Segelschiffes zurück und steht für die Verbundenheit des Quintetts mit der See. \n 
URL:https://www.st-laurentii.de/termin/klangzauber-holzblaeser-sigandor-quintett-3/
CATEGORIES:Konzert
ATTACH;FMTTYPE=image/jpeg:https://www.st-laurentii.de/wp-content/uploads/2017/06/048a.jpg
END:VEVENT
END:VCALENDAR