BEGIN:VCALENDAR
VERSION:2.0
PRODID:-//Kirchengemeinde St. Laurentii auf Föhr - ECPv6.15.18//NONSGML v1.0//EN
CALSCALE:GREGORIAN
METHOD:PUBLISH
X-ORIGINAL-URL:https://www.st-laurentii.de
X-WR-CALDESC:Veranstaltungen für Kirchengemeinde St. Laurentii auf Föhr
REFRESH-INTERVAL;VALUE=DURATION:PT1H
X-Robots-Tag:noindex
X-PUBLISHED-TTL:PT1H
BEGIN:VTIMEZONE
TZID:UTC
BEGIN:STANDARD
TZOFFSETFROM:+0000
TZOFFSETTO:+0000
TZNAME:UTC
DTSTART:20230101T000000
END:STANDARD
END:VTIMEZONE
BEGIN:VEVENT
DTSTART;TZID=UTC:20241003T200000
DTEND;TZID=UTC:20241003T210000
DTSTAMP:20260421T102121
CREATED:20240912T091333Z
LAST-MODIFIED:20240913T074147Z
UID:8043-1727985600-1727989200@www.st-laurentii.de
SUMMARY:Rockkonzert mit der Band "Grenzenlos"
DESCRIPTION:Rockmusik aus Ost- und Westdeutschland \nEin deutschsprachiges Programm mit Rockmusik aus der Zeit vor der Wende wurde zusammen erstellt. Einige „Schätze“ der Rockliteratur aus Ost und West aufgetan. Die Songs werden sehr abwechslungsreich\, humorvoll\, teils nachdenklich\, teils mit sanften Klängen und teils fetzig\, in jedem Fall sehr unterhaltsam gestaltet. \nMarko Laabs (Gesang)\, Nils Lorenzen (E-Gitarre)\, Robert Schallenberg (E-Bass und Gesang)\, Rainer Roeloffs (Schlagzeug)\, Birke Licht (E-Piano und Gesang) \nEintritt frei – Kollekte am Ausgang erbeten
URL:https://www.st-laurentii.de/termin/konzert-mit-der-band-grenzenlos-2/
CATEGORIES:Konzert
ATTACH;FMTTYPE=image/jpeg:https://www.st-laurentii.de/wp-content/uploads/2022/05/IMG-20220430-WA0004.jpg
END:VEVENT
END:VCALENDAR