BEGIN:VCALENDAR
VERSION:2.0
PRODID:-//Kirchengemeinde St. Laurentii auf Föhr - ECPv6.15.18//NONSGML v1.0//EN
CALSCALE:GREGORIAN
METHOD:PUBLISH
X-ORIGINAL-URL:https://www.st-laurentii.de
X-WR-CALDESC:Veranstaltungen für Kirchengemeinde St. Laurentii auf Föhr
REFRESH-INTERVAL;VALUE=DURATION:PT1H
X-Robots-Tag:noindex
X-PUBLISHED-TTL:PT1H
BEGIN:VTIMEZONE
TZID:UTC
BEGIN:STANDARD
TZOFFSETFROM:+0000
TZOFFSETTO:+0000
TZNAME:UTC
DTSTART:20230101T000000
END:STANDARD
END:VTIMEZONE
BEGIN:VEVENT
DTSTART;TZID=UTC:20240908T100000
DTEND;TZID=UTC:20240908T110000
DTSTAMP:20260421T041851
CREATED:20240816T082012Z
LAST-MODIFIED:20240816T082539Z
UID:8023-1725789600-1725793200@www.st-laurentii.de
SUMMARY:Gottesdienst  15. Sonntag nach Trinitatis
DESCRIPTION:„Alle eure Sorge werft auf ihm\, denn er sorgt für euch.“ \nmit Prädikantin i.A. Birke Licht und Gästechor
URL:https://www.st-laurentii.de/termin/gottesdienst-15-sonntag-nach-trinitatis/
CATEGORIES:Gottesdienst
ATTACH;FMTTYPE=image/jpeg:https://www.st-laurentii.de/wp-content/uploads/2014/11/Kirche-innen-1-.jpg
END:VEVENT
END:VCALENDAR