BEGIN:VCALENDAR
VERSION:2.0
PRODID:-//Kirchengemeinde St. Laurentii auf Föhr - ECPv6.15.18//NONSGML v1.0//EN
CALSCALE:GREGORIAN
METHOD:PUBLISH
X-ORIGINAL-URL:https://www.st-laurentii.de
X-WR-CALDESC:Veranstaltungen für Kirchengemeinde St. Laurentii auf Föhr
REFRESH-INTERVAL;VALUE=DURATION:PT1H
X-Robots-Tag:noindex
X-PUBLISHED-TTL:PT1H
BEGIN:VTIMEZONE
TZID:UTC
BEGIN:STANDARD
TZOFFSETFROM:+0000
TZOFFSETTO:+0000
TZNAME:UTC
DTSTART:20230101T000000
END:STANDARD
END:VTIMEZONE
BEGIN:VEVENT
DTSTART;TZID=UTC:20240907T150000
DTEND;TZID=UTC:20240907T180000
DTSTAMP:20260421T055509
CREATED:20240816T080944Z
LAST-MODIFIED:20240816T080944Z
UID:8021-1725721200-1725732000@www.st-laurentii.de
SUMMARY:Offenes Chorsingen für Gäste und Insulaner mit Birke Licht
DESCRIPTION:Offene Chorprobe im Süderender Pastorat (gegenüber der Kirche)für alle\, die Freude am gemeinsamen Singen haben. Birke Licht übt mit dem Spontan-Chor mehrstimmige Lieder ein\, die am drauffolgenden Sonntag im Gottesdienst gesungen werden. \nKostenfrei – ohne Anmeldung – Kaffee/Tee in der Pause
URL:https://www.st-laurentii.de/termin/offenes-chorsingen-fuer-gaeste-und-insulaner-mit-birke-licht-3/
CATEGORIES:Chorsingen
ATTACH;FMTTYPE=image/jpeg:https://www.st-laurentii.de/wp-content/uploads/2011/05/Pastorat.jpg
END:VEVENT
END:VCALENDAR