BEGIN:VCALENDAR
VERSION:2.0
PRODID:-//Kirchengemeinde St. Laurentii auf Föhr - ECPv6.15.18//NONSGML v1.0//EN
CALSCALE:GREGORIAN
METHOD:PUBLISH
X-ORIGINAL-URL:https://www.st-laurentii.de
X-WR-CALDESC:Veranstaltungen für Kirchengemeinde St. Laurentii auf Föhr
REFRESH-INTERVAL;VALUE=DURATION:PT1H
X-Robots-Tag:noindex
X-PUBLISHED-TTL:PT1H
BEGIN:VTIMEZONE
TZID:UTC
BEGIN:STANDARD
TZOFFSETFROM:+0000
TZOFFSETTO:+0000
TZNAME:UTC
DTSTART:20230101T000000
END:STANDARD
END:VTIMEZONE
BEGIN:VEVENT
DTSTART;TZID=UTC:20240825T100000
DTEND;TZID=UTC:20240825T110000
DTSTAMP:20260422T073623
CREATED:20240719T072458Z
LAST-MODIFIED:20240719T072458Z
UID:8001-1724580000-1724583600@www.st-laurentii.de
SUMMARY:Gottesdienst 13. Sonntag nach Trinitatis
DESCRIPTION:mit Pastorin Gabriele Kliefoth und Musikerin Birke Licht und Gästechor
URL:https://www.st-laurentii.de/termin/gottesdienst-13-sonntag-nach-trinitatis/
CATEGORIES:Gottesdienst
ATTACH;FMTTYPE=image/jpeg:https://www.st-laurentii.de/wp-content/uploads/2014/11/Altar1.jpg
END:VEVENT
END:VCALENDAR