BEGIN:VCALENDAR
VERSION:2.0
PRODID:-//Kirchengemeinde St. Laurentii auf Föhr - ECPv6.15.18//NONSGML v1.0//EN
CALSCALE:GREGORIAN
METHOD:PUBLISH
X-ORIGINAL-URL:https://www.st-laurentii.de
X-WR-CALDESC:Veranstaltungen für Kirchengemeinde St. Laurentii auf Föhr
REFRESH-INTERVAL;VALUE=DURATION:PT1H
X-Robots-Tag:noindex
X-PUBLISHED-TTL:PT1H
BEGIN:VTIMEZONE
TZID:UTC
BEGIN:STANDARD
TZOFFSETFROM:+0000
TZOFFSETTO:+0000
TZNAME:UTC
DTSTART:20220101T000000
END:STANDARD
END:VTIMEZONE
BEGIN:VEVENT
DTSTART;TZID=UTC:20230409T100000
DTEND;TZID=UTC:20230409T110000
DTSTAMP:20260423T045045
CREATED:20230224T080842Z
LAST-MODIFIED:20230224T085520Z
UID:6491-1681034400-1681038000@www.st-laurentii.de
SUMMARY:Gottesdienst zum Osterfest "Auferstehung und Osterlachen"
DESCRIPTION:mit Musikerin Birke Licht und Pastor Jeß – Es singen die Feer-Ladies.
URL:https://www.st-laurentii.de/termin/gottesdienst-ostersonntag-auferstehung-und-osterlachen/
CATEGORIES:Gottesdienst
ATTACH;FMTTYPE=image/jpeg:https://www.st-laurentii.de/wp-content/uploads/2019/04/DSC08054.jpg
END:VEVENT
END:VCALENDAR