BEGIN:VCALENDAR
VERSION:2.0
PRODID:-//Kirchengemeinde St. Laurentii auf Föhr - ECPv6.15.18//NONSGML v1.0//EN
CALSCALE:GREGORIAN
METHOD:PUBLISH
X-WR-CALNAME:Kirchengemeinde St. Laurentii auf Föhr
X-ORIGINAL-URL:https://www.st-laurentii.de
X-WR-CALDESC:Veranstaltungen für Kirchengemeinde St. Laurentii auf Föhr
REFRESH-INTERVAL;VALUE=DURATION:PT1H
X-Robots-Tag:noindex
X-PUBLISHED-TTL:PT1H
BEGIN:VTIMEZONE
TZID:UTC
BEGIN:STANDARD
TZOFFSETFROM:+0000
TZOFFSETTO:+0000
TZNAME:UTC
DTSTART:20220101T000000
END:STANDARD
END:VTIMEZONE
BEGIN:VEVENT
DTSTART;TZID=UTC:20230408T200000
DTEND;TZID=UTC:20230408T210000
DTSTAMP:20260423T060212
CREATED:20230224T080456Z
LAST-MODIFIED:20230224T080456Z
UID:6489-1680984000-1680987600@www.st-laurentii.de
SUMMARY:Konzert " Musikalische Osterspuren"
DESCRIPTION:mit Musikerin Birke Licht und Musikerin Diana Jeß
URL:https://www.st-laurentii.de/termin/konzert-musikalische-osterspuren/
CATEGORIES:Konzert,Musikalische Abendgedanken
ATTACH;FMTTYPE=image/jpeg:https://www.st-laurentii.de/wp-content/uploads/2018/08/IMG-20180802-WA0001.jpg
END:VEVENT
END:VCALENDAR