BEGIN:VCALENDAR
VERSION:2.0
PRODID:-//Kirchengemeinde St. Laurentii auf Föhr - ECPv6.15.18//NONSGML v1.0//EN
CALSCALE:GREGORIAN
METHOD:PUBLISH
X-WR-CALNAME:Kirchengemeinde St. Laurentii auf Föhr
X-ORIGINAL-URL:https://www.st-laurentii.de
X-WR-CALDESC:Veranstaltungen für Kirchengemeinde St. Laurentii auf Föhr
REFRESH-INTERVAL;VALUE=DURATION:PT1H
X-Robots-Tag:noindex
X-PUBLISHED-TTL:PT1H
BEGIN:VTIMEZONE
TZID:UTC
BEGIN:STANDARD
TZOFFSETFROM:+0000
TZOFFSETTO:+0000
TZNAME:UTC
DTSTART:20220101T000000
END:STANDARD
END:VTIMEZONE
BEGIN:VEVENT
DTSTART;TZID=UTC:20230125T150000
DTEND;TZID=UTC:20230125T163000
DTSTAMP:20260420T065837
CREATED:20230103T091925Z
LAST-MODIFIED:20230103T091937Z
UID:6445-1674658800-1674664200@www.st-laurentii.de
SUMMARY:Gemütliches Beisammensein im Seniorenkreis
DESCRIPTION:Musikalischer Jahresanfang mit Birke Licht
URL:https://www.st-laurentii.de/termin/gemuetliches-beisammensein-im-seniorenkreis-2/
CATEGORIES:Veranstaltungen
ATTACH;FMTTYPE=image/jpeg:https://www.st-laurentii.de/wp-content/uploads/2016/11/DSC00017.jpg
END:VEVENT
END:VCALENDAR